BEGIN:VCALENDAR
VERSION:2.0
PRODID:-//Tukios.com/
BEGIN:VEVENT
UID:70ce6fc9-7905-4656-a869-0d49a988d646@www.fakefuneralhome.com
DTSTAMP:20260424T062835Z
DTSTART:20260429T140000Z
DTEND:20260429T150000Z
SUMMARY:Funeral Service
DESCRIPTION:
URL:https://www.fakefuneralhome.com/obituaries/thomas-frank
LOCATION: 2326 E Washington BLV Suite 402 Ogden UT 84401
GEO:41.2240544;-111.9698081
END:VEVENT
END:VCALENDAR